BEGIN:VCALENDAR
VERSION:2.0
PRODID:mnr.ch
METHOD:PUBLISH
BEGIN:VEVENT
CLASS:PUBLIC
UID:2562
DTSTAMP:20260423T122625
LOCATION:
SUMMARY:Jungschar Sommerlager (Jungschi) - SoLa'25 - De Wäg id Freiheit
DESCRIPTION:\nJungschar-Sommerlager für JungschärlerDetaillierte Infos auf jungschar.mnr.ch unter Sommerlager
DTSTART:20250713T130000
DTEND:20250719T110000
END:VEVENT
END:VCALENDAR