BEGIN:VCALENDAR
VERSION:2.0
PRODID:mnr.ch
METHOD:PUBLISH
BEGIN:VEVENT
CLASS:PUBLIC
UID:3096
DTSTAMP:20260421T003247
LOCATION:34, Zionshalle, Ringwiesenstrasse 15, 8600, Dübendorf, CH
SUMMARY:Precept Bible Study Group (DE)
DESCRIPTION:Eva Rindlisbacher\n
DTSTART:20230927T090000
DTEND:20230927T110000
END:VEVENT
END:VCALENDAR