BEGIN:VCALENDAR
VERSION:2.0
PRODID:mnr.ch
METHOD:PUBLISH
BEGIN:VEVENT
CLASS:PUBLIC
UID:3579
DTSTAMP:20260423T112811
LOCATION:34, Zionshalle, Ringwiesenstrasse 15, 8600, Dübendorf, CH
SUMMARY:Bibel/Gebetsstunde
DESCRIPTION:Samuel Rindlisbacher\n
DTSTART:20260423T200000
DTEND:20260423T210000
END:VEVENT
END:VCALENDAR